BEGIN:VCALENDAR
VERSION:2.0
PRODID:-//eventon.com NONSGML v1.0//EN
CALSCALE:GREGORIAN
METHOD:PUBLISH
BEGIN:VEVENT
UID:69e4eebf4c649
DTSTAMP:20260419T150327
DTSTART:20200314T100000Z
DTEND:20200314T120000Z
TZID:Etc/Greenwich
LOCATION:
SUMMARY:Spring Litter Pick 2020
DESCRIPTION:Come and join with the Burgh Beautiful Environmental Group to tidy-up the town for Spring! We will meet at The Vennel at 10.30am on Saturday March 14th and clear litter around the buildings\,  carpark and Lochside.  We will finish by 12noon. Pickers and bags will be provided\,  but please bring your[..]\nhttps://mylinlithgow.com/events/spring-litter-pick-2020/
URL:https://mylinlithgow.com/events/spring-litter-pick-2020/
END:VEVENT
END:VCALENDAR