BEGIN:VCALENDAR
VERSION:2.0
PRODID:-//eventon.com NONSGML v1.0//EN
CALSCALE:GREGORIAN
METHOD:PUBLISH
BEGIN:VEVENT
UID:69e6382d8c268
DTSTAMP:20260420T142901
DTSTART:20200206T093000Z
DTEND:20200206T123000Z
TZID:Etc/Greenwich
LOCATION:
SUMMARY:Online Photography For Business
DESCRIPTION:This workshop will help you get the most out of your smart phone or compact camera to take quality shots for your company website\,  social media. You don’t need an expensive camera to take great photos\,  you just need to know what you’re doing with the camera you’ve got. To[..]\nhttps://mylinlithgow.com/events/online-photography-for-business/
URL:https://mylinlithgow.com/events/online-photography-for-business/
END:VEVENT
END:VCALENDAR