BEGIN:VCALENDAR
VERSION:2.0
PRODID:-//eventon.com NONSGML v1.0//EN
CALSCALE:GREGORIAN
METHOD:PUBLISH
BEGIN:VEVENT
UID:69e8a2b48f45f
DTSTAMP:20260422T102804
DTSTART:20191205T213000Z
DTEND:20191205T130000Z
TZID:Etc/Greenwich
LOCATION:
SUMMARY:Action Counters Terrorism: Festive Safety Briefing For Businesses
DESCRIPTION:Join the Scottish Business Resilience Centre in a FREE Action Counters Terrorism festive briefing for businesses. Earlier this month\,  the Home Secretary announced the UK threat level was being reduced from “Severe” where it meant an attack was highly likely\,  to “Substantial”\,  meaning that an attack is likely.  Despite the[..]\nhttps://mylinlithgow.com/events/action-counters-terrorism-festive-safety-briefing-for-businesses/
URL:https://mylinlithgow.com/events/action-counters-terrorism-festive-safety-briefing-for-businesses/
END:VEVENT
END:VCALENDAR