BEGIN:VCALENDAR
VERSION:2.0
PRODID:-//eventon.com NONSGML v1.0//EN
CALSCALE:GREGORIAN
METHOD:PUBLISH
BEGIN:VEVENT
UID:69e8a0b05bc74
DTSTAMP:20260422T101928
DTSTART:20191107T101500Z
DTEND:20191107T104500Z
TZID:Etc/Greenwich
LOCATION:
SUMMARY:Bookbug Sessions (Linlithgow Library)
DESCRIPTION:Free story\,  song and rhyme sessions for babies\,  toddlers\,  pre-school children and their families.  Booking is essential as spaces are limited at Linlithgow Library. Please phone to book &#8211; 01506 283880 &nbsp;\nhttps://mylinlithgow.com/events/bookbug-sessions-linlithgow-library/
URL:https://mylinlithgow.com/events/bookbug-sessions-linlithgow-library/
END:VEVENT
END:VCALENDAR