BEGIN:VCALENDAR
VERSION:2.0
PRODID:-//eventon.com NONSGML v1.0//EN
CALSCALE:GREGORIAN
METHOD:PUBLISH
BEGIN:VEVENT
UID:69e8a285892f4
DTSTAMP:20260422T102717
DTSTART:20191128T193000Z
DTEND:20191128T220000Z
TZID:Etc/Greenwich
LOCATION:
SUMMARY:Chris Stout And Catriona McKay
DESCRIPTION:Daring Fiddle and Harp duo Chris Stout And Catriona McKay take traditional music to it&#8217;s creative and exciting outer limits.  Tickets are £15 from: 07849 509407 and Far From The Madding Crowd Linlithgow. &nbsp;\nhttps://mylinlithgow.com/events/chris-stout-and-catriona-mckay/
URL:https://mylinlithgow.com/events/chris-stout-and-catriona-mckay/
END:VEVENT
END:VCALENDAR