BEGIN:VCALENDAR
VERSION:2.0
PRODID:-//eventon.com NONSGML v1.0//EN
CALSCALE:GREGORIAN
METHOD:PUBLISH
BEGIN:VEVENT
UID:69e8a1ae46a72
DTSTAMP:20260422T102342
DTSTART:20190914T191500Z
DTEND:20190914T221500Z
TZID:Etc/Greenwich
LOCATION:
SUMMARY:Bluegrass Concert With The OkefeNokee Reunion Band
DESCRIPTION:Bluegrass Concert With The OkefeNokee Reunion Band is back in Linlithgow for this special concert in the Rose Social Club. Forty years ago\,  there was very little knowledge of Bluegrass Music in Scotland. Today there is a thriving scene with many great players. Okefenokee Bluegrass Band were pioneers for Bluegrass[..]\nhttps://mylinlithgow.com/events/bluegrass-concert-with-the-okefenokee-reunion-band/
URL:https://mylinlithgow.com/events/bluegrass-concert-with-the-okefenokee-reunion-band/
END:VEVENT
END:VCALENDAR