BEGIN:VCALENDAR
VERSION:2.0
PRODID:-//eventon.com NONSGML v1.0//EN
CALSCALE:GREGORIAN
METHOD:PUBLISH
BEGIN:VEVENT
UID:69e89a9c00137
DTSTAMP:20260422T095332
DTSTART:20190720T210000Z
DTEND:20190720T120000Z
TZID:Etc/Greenwich
LOCATION:
SUMMARY:Brian Kelly Live -Singer & Songwriter
DESCRIPTION:This Saturday the BLACK BITCH brings back the extremely talented BRIAN KELLY.  He is a local talented singer who will bring you an extensive repertoire of music. You will hear Folk \, Rock \, Pop\, Blues &amp; a little bit of Country! He’s all yours folks from 9.00-late\nhttps://mylinlithgow.com/events/brian-kelly-live/
URL:https://mylinlithgow.com/events/brian-kelly-live/
END:VEVENT
END:VCALENDAR