BEGIN:VCALENDAR
VERSION:2.0
PRODID:-//eventon.com NONSGML v1.0//EN
CALSCALE:GREGORIAN
METHOD:PUBLISH
BEGIN:VEVENT
UID:69e89ac02aea4
DTSTAMP:20260422T095408
DTSTART:20190817T120000Z
DTEND:20190817T160000Z
TZID:Etc/Greenwich
LOCATION:
SUMMARY:The Hamiltons At Blackness
DESCRIPTION:In 1572\,  dashing young Lord Claud Hamilton seized Blackness Castle on behalf of Mary Queen of Scots following her forced abdication. After protecting it against all attackers\,  he sallied forth with his men to deliver retribution onto her enemies. Come and meet one of Hamilton’s men and hear about siege[..]\nhttps://mylinlithgow.com/events/the-hamiltons-at-blackness/
URL:https://mylinlithgow.com/events/the-hamiltons-at-blackness/
END:VEVENT
END:VCALENDAR