BEGIN:VCALENDAR
VERSION:2.0
PRODID:-//eventon.com NONSGML v1.0//EN
CALSCALE:GREGORIAN
METHOD:PUBLISH
BEGIN:VEVENT
UID:69e89b89dda6c
DTSTAMP:20260422T095729
DTSTART:20190608T190000Z
DTEND:20190608T010000Z
TZID:Etc/Greenwich
LOCATION:
SUMMARY:Planet ABBA Tribute Night
DESCRIPTION:Looking for a fabulous night out?  Why not come along to Linlithgow Rugby Club on Saturday the 8th of June. We are holding an ABBA tribute night within the Marquee. Tickets £12.50 per person (includes tribute act and disco) on sale from Linlithgow Rugby Club (email LRFCevents@gmail.com) or can be[..]\nhttps://mylinlithgow.com/events/planet-abba-tribute-night/
URL:https://mylinlithgow.com/events/planet-abba-tribute-night/
END:VEVENT
END:VCALENDAR