BEGIN:VCALENDAR
VERSION:2.0
PRODID:-//eventon.com NONSGML v1.0//EN
CALSCALE:GREGORIAN
METHOD:PUBLISH
BEGIN:VEVENT
UID:69e89aefa3884
DTSTAMP:20260422T095455
DTSTART:20190629T123000Z
DTEND:20190629T163000Z
TZID:Etc/Greenwich
LOCATION:
SUMMARY:Spectacular Jousting
DESCRIPTION:Hear the thunder of hooves and the clashing of lances as Linlithgow pre hosts our annual jousting tournament. Watch as noble knights battle it out to be crowned champion.   Buy your event tickets online in advance to save 10%. Tickets available on the button below Historic Scotland Members: Entry to the[..]\nhttps://mylinlithgow.com/events/spectacular-jousting/
URL:https://mylinlithgow.com/events/spectacular-jousting/
END:VEVENT
END:VCALENDAR