BEGIN:VCALENDAR
VERSION:2.0
PRODID:-//eventon.com NONSGML v1.0//EN
CALSCALE:GREGORIAN
METHOD:PUBLISH
BEGIN:VEVENT
UID:69e89e82ead79
DTSTAMP:20260422T101010
DTSTART:20190128T193000Z
DTEND:20190128T203000Z
TZID:Etc/Greenwich
LOCATION:
SUMMARY:Move Mindfully Classes Monday evening
DESCRIPTION:Adult and Children&#8217;s Yoga\,  Mindful Movement classes and Yoga for Schools across West Lothian with Maxine Burke\,  Claire Chant\,  Joy Cummings and Rhona Watt. ​​ Joy&#8217;s Classes: Monday 7- 8.30 pm.  Qu​een Margaret hall\,  Linlithgow.  £7 drop in ​ ​Thursday 10 &#8211; 11 am &#8211; Springfield community wing\,  Linlithgow\,  £6 drop in ​to[..]\nhttps://mylinlithgow.com/events/move-mindfully-classes-monday-evening/
URL:https://mylinlithgow.com/events/move-mindfully-classes-monday-evening/
END:VEVENT
END:VCALENDAR