BEGIN:VCALENDAR
VERSION:2.0
PRODID:-//eventon.com NONSGML v1.0//EN
CALSCALE:GREGORIAN
METHOD:PUBLISH
BEGIN:VEVENT
UID:69e8a1ae45949
DTSTAMP:20260422T102342
DTSTART:20190331T130000Z
DTEND:20190331T160000Z
TZID:Etc/Greenwich
LOCATION:
SUMMARY:Mother's Day Sparkling Afternoon Tea
DESCRIPTION:Join us in the stunning Bailie Hardie Hall for a special Mothers&#8217; Day afternoon treat.  Gather friends and family and enjoy freshly made sandwiches with scones and cakes with tea or coffee.   Sparkling Prosecco for adults and sparkling mocktails for children.   2 Adults &#8211; Tea for two\,  including a glass of Prosecco [..]\nhttps://mylinlithgow.com/events/mothers-day-sparkling-afternoon-tea/
URL:https://mylinlithgow.com/events/mothers-day-sparkling-afternoon-tea/
END:VEVENT
END:VCALENDAR