BEGIN:VCALENDAR
VERSION:2.0
PRODID:-//eventon.com NONSGML v1.0//EN
CALSCALE:GREGORIAN
METHOD:PUBLISH
BEGIN:VEVENT
UID:69e8a14b41c00
DTSTAMP:20260422T102203
DTSTART:20190209T100000Z
DTEND:20190209T170000Z
TZID:Etc/Greenwich
LOCATION:
SUMMARY:The Muckle Sing
DESCRIPTION:Another memorable day for community singing groups and individual singers\,  including morning and afternoon workshops\,  performance platform and a short concert from our amazing tutor Jennnifer Sterling! Taking place 10am-5.00pm at the Queen Margaret Hall\,  Linlithgow and supported by West Lothian Council. All welcome &#8211; from the beginner to the[..]\nhttps://mylinlithgow.com/events/the-muckle-sing/
URL:https://mylinlithgow.com/events/the-muckle-sing/
END:VEVENT
END:VCALENDAR