BEGIN:VCALENDAR
VERSION:2.0
PRODID:-//eventon.com NONSGML v1.0//EN
CALSCALE:GREGORIAN
METHOD:PUBLISH
BEGIN:VEVENT
UID:69e89ba4defe2
DTSTAMP:20260422T095756
DTSTART:20230524T150000Z
DTEND:20230524T163000Z
TZID:Etc/Greenwich
LOCATION:
SUMMARY:Networking Event for Therapists\,  Spiritual Teachers or Guides
DESCRIPTION:Calling All Therapists\,  Spiritual Teachers or GuidesAre you free to join us for our fun Networking Event? COST: £5 PLEASE NOTE: This is a ticket only Event see link below for full information and booking. https://www.eventbrite.co.uk/e/networking-event-for-therapists-spiritual-teachers-and-guides-tickets-600871220997 Janice and Liz from Scottish Seasonal Retreats would like to invite you to our[..]\nhttps://mylinlithgow.com/events/therapist-networking/
URL:https://mylinlithgow.com/events/therapist-networking/
END:VEVENT
END:VCALENDAR