BEGIN:VCALENDAR
VERSION:2.0
PRODID:-//eventon.com NONSGML v1.0//EN
CALSCALE:GREGORIAN
METHOD:PUBLISH
BEGIN:VEVENT
UID:69e89ef515039
DTSTAMP:20260422T101205
DTSTART:20220610T193000Z
DTEND:20220610T223000Z
TZID:Europe/London
LOCATION:
SUMMARY:The Provost Wrestling Dinner is back for 2022!
DESCRIPTION:Join us on Friday\,  10th June at Linlithgow Rugby Club\,  for an evening of brilliant entertainment and great food! Showcasing quality professional wrestling entertainment. Dress Code smart casual. Help support Linlithgow Marches and Deacon&#8217;s Court. Tickets are £35 and are available by contacting eitherNorman Cummings &#8211; 07808 473167 &#8211; norman@nctextiles.co.ukRobert[..]\nhttps://mylinlithgow.com/events/the-provost-wrestling-dinner-is-back-for-2022/
URL:https://mylinlithgow.com/events/the-provost-wrestling-dinner-is-back-for-2022/
END:VEVENT
END:VCALENDAR