BEGIN:VCALENDAR
VERSION:2.0
PRODID:-//eventon.com NONSGML v1.0//EN
CALSCALE:GREGORIAN
METHOD:PUBLISH
BEGIN:VEVENT
UID:69e8a052dea74
DTSTAMP:20260422T101754
DTSTART:20210521T140000Z
DTEND:20210521T150000Z
TZID:Etc/Greenwich
LOCATION:
SUMMARY:Edinburgh in the 1920s: Historical Photos
DESCRIPTION:To complement our paintings representing the 1920s\,  SCRAN will take us a walk through Edinburgh in the &#8216;Roaring 20s&#8217;. Did you know Edinburgh’s cable trams were electrified in 1923 and this cable car system was once one of the largest and most complex in the world? Join us for an[..]\nhttps://mylinlithgow.com/events/edinburgh-in-the-1920s-historical-photos/
URL:https://mylinlithgow.com/events/edinburgh-in-the-1920s-historical-photos/
END:VEVENT
END:VCALENDAR