BEGIN:VCALENDAR
VERSION:2.0
PRODID:-//eventon.com NONSGML v1.0//EN
CALSCALE:GREGORIAN
METHOD:PUBLISH
BEGIN:VEVENT
UID:69e89fead6944
DTSTAMP:20260422T101610
DTSTART:20210419T190000Z
DTEND:20210419T200000Z
TZID:Etc/Greenwich
LOCATION:
SUMMARY:Noel Fitzpatrick - How Animals Saved My Life
DESCRIPTION:&#8220;It is only in looking after animals that we will look after ourselves.&#8221; Enjoy an evening with Professor Noel Fitzpatrick\,  hosted by Lorraine Kelly\,  as he reflects on his personal journey into writing his latest book\,  How Animals Saved My Life and how his relationship with animals has taught him how[..]\nhttps://mylinlithgow.com/events/noel-fitzpatrick-how-animals-saved-my-life/
URL:https://mylinlithgow.com/events/noel-fitzpatrick-how-animals-saved-my-life/
END:VEVENT
END:VCALENDAR