BEGIN:VCALENDAR
VERSION:2.0
PRODID:-//eventon.com NONSGML v1.0//EN
CALSCALE:GREGORIAN
METHOD:PUBLISH
BEGIN:VEVENT
UID:69e8a327baba0
DTSTAMP:20260422T102959
DTSTART:20201018T183000Z
DTEND:20201018T200000Z
TZID:Etc/Greenwich
LOCATION:
SUMMARY:A Live Stream with Jodi Picoult
DESCRIPTION:I For the launch of her new novel\,  The Book of Two Ways Fane Online is a curated series of live-streamed events\,  giving you the chance to watch exclusive shows with celebrated authors\,  actors and podcasters\,  all from the comfort of your own home. In assocation with Waterstones\,  we are pleased to[..]\nhttps://mylinlithgow.com/events/a-live-stream-with-jodi-picoult/
URL:https://mylinlithgow.com/events/a-live-stream-with-jodi-picoult/
END:VEVENT
END:VCALENDAR