BEGIN:VCALENDAR
VERSION:2.0
PRODID:-//eventon.com NONSGML v1.0//EN
CALSCALE:GREGORIAN
METHOD:PUBLISH
BEGIN:VEVENT
UID:69ea3fe1a17b7
DTSTAMP:20260423T155057
DTSTART:20200726T200000Z
DTEND:20200726T203000Z
TZID:Etc/Greenwich
LOCATION:
SUMMARY:Paul Potts Live
DESCRIPTION:Paul Potts singing live from his balcony in Swansea every Sunday evening He also sings a daily song.  Follow him on Facebook &#8211; https://www.facebook.com/paulpottsmusic/\nhttps://mylinlithgow.com/events/paul-potts-live/var/ri-10.l-L1
URL:https://mylinlithgow.com/events/paul-potts-live/var/ri-10.l-L1
END:VEVENT
END:VCALENDAR