BEGIN:VCALENDAR
VERSION:2.0
PRODID:-//eventon.com NONSGML v1.0//EN
CALSCALE:GREGORIAN
METHOD:PUBLISH
BEGIN:VEVENT
UID:69e8223552f53
DTSTAMP:20260422T011949
DTSTART:20200827T093000Z
DTEND:20200827T103000Z
TZID:Etc/Greenwich
LOCATION:
SUMMARY:Thursday Virtual Pilates Class with Arlene
DESCRIPTION:To book a class online for Life Fit Wellness\,  you must be registered with us and have purchased credits. For Virtual Classes you should book before 5pm the day prior to the class to ensure your class link to be sent.  Booking after this cannot be guaranteed however we will do[..]\nhttps://mylinlithgow.com/events/thursday-virtual-pilates-class-with-arlene/var/ri-19.l-L1
URL:https://mylinlithgow.com/events/thursday-virtual-pilates-class-with-arlene/var/ri-19.l-L1
END:VEVENT
END:VCALENDAR